BEGIN:VCALENDAR
VERSION:2.0
PRODID:-//Mount Hermon Baptist Church - ECPv6.15.20//NONSGML v1.0//EN
CALSCALE:GREGORIAN
METHOD:PUBLISH
X-ORIGINAL-URL:https://mounthermondurham.org
X-WR-CALDESC:Events for Mount Hermon Baptist Church
REFRESH-INTERVAL;VALUE=DURATION:PT1H
X-Robots-Tag:noindex
X-PUBLISHED-TTL:PT1H
BEGIN:VTIMEZONE
TZID:America/New_York
BEGIN:DAYLIGHT
TZOFFSETFROM:-0500
TZOFFSETTO:-0400
TZNAME:EDT
DTSTART:20240310T070000
END:DAYLIGHT
BEGIN:STANDARD
TZOFFSETFROM:-0400
TZOFFSETTO:-0500
TZNAME:EST
DTSTART:20241103T060000
END:STANDARD
BEGIN:DAYLIGHT
TZOFFSETFROM:-0500
TZOFFSETTO:-0400
TZNAME:EDT
DTSTART:20250309T070000
END:DAYLIGHT
BEGIN:STANDARD
TZOFFSETFROM:-0400
TZOFFSETTO:-0500
TZNAME:EST
DTSTART:20251102T060000
END:STANDARD
BEGIN:DAYLIGHT
TZOFFSETFROM:-0500
TZOFFSETTO:-0400
TZNAME:EDT
DTSTART:20260308T070000
END:DAYLIGHT
BEGIN:STANDARD
TZOFFSETFROM:-0400
TZOFFSETTO:-0500
TZNAME:EST
DTSTART:20261101T060000
END:STANDARD
END:VTIMEZONE
BEGIN:VEVENT
DTSTART;TZID=America/New_York:20251213T100000
DTEND;TZID=America/New_York:20251213T130000
DTSTAMP:20260421T043051
CREATED:20231128T234308Z
LAST-MODIFIED:20250924T131511Z
UID:2295-1765620000-1765630800@mounthermondurham.org
SUMMARY:Gift Wrapping (Youth Fundraiser)
DESCRIPTION:On December 13th\, the Children and Youth will wrap all your Christmas presents! In exchange\, we ask you to make a donation to the Children and Youth Missions and Other Trips fund\, but donations are not required.
URL:https://mounthermondurham.org/event/gift-wrapping-youth-fundraiser/
CATEGORIES:News & Events
ATTACH;FMTTYPE=image/jpeg:https://mounthermondurham.org/wp-content/uploads/2023/11/gift-wrapping.jpg
END:VEVENT
END:VCALENDAR