BEGIN:VCALENDAR
VERSION:2.0
PRODID:-//Mount Hermon Baptist Church - ECPv6.15.20//NONSGML v1.0//EN
CALSCALE:GREGORIAN
METHOD:PUBLISH
X-WR-CALNAME:Mount Hermon Baptist Church
X-ORIGINAL-URL:https://mounthermondurham.org
X-WR-CALDESC:Events for Mount Hermon Baptist Church
REFRESH-INTERVAL;VALUE=DURATION:PT1H
X-Robots-Tag:noindex
X-PUBLISHED-TTL:PT1H
BEGIN:VTIMEZONE
TZID:America/New_York
BEGIN:DAYLIGHT
TZOFFSETFROM:-0500
TZOFFSETTO:-0400
TZNAME:EDT
DTSTART:20220313T070000
END:DAYLIGHT
BEGIN:STANDARD
TZOFFSETFROM:-0400
TZOFFSETTO:-0500
TZNAME:EST
DTSTART:20221106T060000
END:STANDARD
BEGIN:DAYLIGHT
TZOFFSETFROM:-0500
TZOFFSETTO:-0400
TZNAME:EDT
DTSTART:20230312T070000
END:DAYLIGHT
BEGIN:STANDARD
TZOFFSETFROM:-0400
TZOFFSETTO:-0500
TZNAME:EST
DTSTART:20231105T060000
END:STANDARD
BEGIN:DAYLIGHT
TZOFFSETFROM:-0500
TZOFFSETTO:-0400
TZNAME:EDT
DTSTART:20240310T070000
END:DAYLIGHT
BEGIN:STANDARD
TZOFFSETFROM:-0400
TZOFFSETTO:-0500
TZNAME:EST
DTSTART:20241103T060000
END:STANDARD
END:VTIMEZONE
BEGIN:VEVENT
DTSTART;TZID=America/New_York:20230324T183000
DTEND;TZID=America/New_York:20230325T160000
DTSTAMP:20260425T080609
CREATED:20230303T123722Z
LAST-MODIFIED:20230303T123722Z
UID:2189-1679682600-1679760000@mounthermondurham.org
SUMMARY:Youth D-Now
DESCRIPTION:DNOW is a weekend when our student ministry intentionally sets time aside to focus on discipleship and missions. This year\, our theme is “Call.” We will focus on what it means to be called by God and how we are all called to do something. We will meet at the church on March 24th at 6:30 pm\, stay the night at two separate host homes\, and have a full day of activities on Saturday the 25th ending sometime in the afternoon. We hope to see you there!
URL:https://mounthermondurham.org/event/youth-d-now/
CATEGORIES:News & Events
END:VEVENT
END:VCALENDAR