BEGIN:VCALENDAR
VERSION:2.0
PRODID:-//Mount Hermon Baptist Church - ECPv6.15.20//NONSGML v1.0//EN
CALSCALE:GREGORIAN
METHOD:PUBLISH
X-ORIGINAL-URL:https://mounthermondurham.org
X-WR-CALDESC:Events for Mount Hermon Baptist Church
REFRESH-INTERVAL;VALUE=DURATION:PT1H
X-Robots-Tag:noindex
X-PUBLISHED-TTL:PT1H
BEGIN:VTIMEZONE
TZID:America/New_York
BEGIN:DAYLIGHT
TZOFFSETFROM:-0500
TZOFFSETTO:-0400
TZNAME:EDT
DTSTART:20230312T070000
END:DAYLIGHT
BEGIN:STANDARD
TZOFFSETFROM:-0400
TZOFFSETTO:-0500
TZNAME:EST
DTSTART:20231105T060000
END:STANDARD
BEGIN:DAYLIGHT
TZOFFSETFROM:-0500
TZOFFSETTO:-0400
TZNAME:EDT
DTSTART:20240310T070000
END:DAYLIGHT
BEGIN:STANDARD
TZOFFSETFROM:-0400
TZOFFSETTO:-0500
TZNAME:EST
DTSTART:20241103T060000
END:STANDARD
BEGIN:DAYLIGHT
TZOFFSETFROM:-0500
TZOFFSETTO:-0400
TZNAME:EDT
DTSTART:20250309T070000
END:DAYLIGHT
BEGIN:STANDARD
TZOFFSETFROM:-0400
TZOFFSETTO:-0500
TZNAME:EST
DTSTART:20251102T060000
END:STANDARD
END:VTIMEZONE
BEGIN:VEVENT
DTSTART;TZID=America/New_York:20240831T090000
DTEND;TZID=America/New_York:20240831T120000
DTSTAMP:20260422T132609
CREATED:20240821T115420Z
LAST-MODIFIED:20240821T115706Z
UID:2384-1725094800-1725105600@mounthermondurham.org
SUMMARY:Rotating Committee Meetings
DESCRIPTION:Rotating Committee Orientations \nAll committee members should plan to attend at the designated time listed below. \n\nSanctuary 9:00 am;\nProperties 9:30 am;\nSpecial Events 10:00 am;\nPersonnel 10:30 am;\nStewardship 11:00 am;\nNominating 11:30 am
URL:https://mounthermondurham.org/event/rotating-committee-meetings/
CATEGORIES:News & Events
END:VEVENT
END:VCALENDAR