BEGIN:VCALENDAR
VERSION:2.0
PRODID:-//Mount Hermon Baptist Church - ECPv6.15.20//NONSGML v1.0//EN
CALSCALE:GREGORIAN
METHOD:PUBLISH
X-WR-CALNAME:Mount Hermon Baptist Church
X-ORIGINAL-URL:https://mounthermondurham.org
X-WR-CALDESC:Events for Mount Hermon Baptist Church
REFRESH-INTERVAL;VALUE=DURATION:PT1H
X-Robots-Tag:noindex
X-PUBLISHED-TTL:PT1H
BEGIN:VTIMEZONE
TZID:America/New_York
BEGIN:DAYLIGHT
TZOFFSETFROM:-0500
TZOFFSETTO:-0400
TZNAME:EDT
DTSTART:20250309T070000
END:DAYLIGHT
BEGIN:STANDARD
TZOFFSETFROM:-0400
TZOFFSETTO:-0500
TZNAME:EST
DTSTART:20251102T060000
END:STANDARD
BEGIN:DAYLIGHT
TZOFFSETFROM:-0500
TZOFFSETTO:-0400
TZNAME:EDT
DTSTART:20260308T070000
END:DAYLIGHT
BEGIN:STANDARD
TZOFFSETFROM:-0400
TZOFFSETTO:-0500
TZNAME:EST
DTSTART:20261101T060000
END:STANDARD
BEGIN:DAYLIGHT
TZOFFSETFROM:-0500
TZOFFSETTO:-0400
TZNAME:EDT
DTSTART:20270314T070000
END:DAYLIGHT
BEGIN:STANDARD
TZOFFSETFROM:-0400
TZOFFSETTO:-0500
TZNAME:EST
DTSTART:20271107T060000
END:STANDARD
END:VTIMEZONE
BEGIN:VEVENT
DTSTART;TZID=America/New_York:20260304T170000
DTEND;TZID=America/New_York:20260304T180000
DTSTAMP:20260420T055012
CREATED:20241115T164430Z
LAST-MODIFIED:20260224T135408Z
UID:2408-1772643600-1772647200@mounthermondurham.org
SUMMARY:Potluck Dinner
DESCRIPTION:We will have a potluck dinner before Bible Study.  Bring your favorite dish to share.
URL:https://mounthermondurham.org/event/potluck-dinner-4/
CATEGORIES:News & Events
ATTACH;FMTTYPE=image/jpeg:https://mounthermondurham.org/wp-content/uploads/2023/04/potluck.jpg
END:VEVENT
BEGIN:VEVENT
DTSTART;TZID=America/New_York:20260314T103000
DTEND;TZID=America/New_York:20260314T113000
DTSTAMP:20260420T055012
CREATED:20221213T171522Z
LAST-MODIFIED:20260224T135703Z
UID:2165-1773484200-1773487800@mounthermondurham.org
SUMMARY:Youth Foosball Tournament
DESCRIPTION:Join us for our annual foosball tournament fundraiser. We will have sponsorship opportunities for the participants that will go toward youth trips and missions\, or you can just come and support the children and youth with your cheers!\n\nTime may change\, check for updates.
URL:https://mounthermondurham.org/event/youth-foosball-tournament/
CATEGORIES:News & Events
ATTACH;FMTTYPE=image/jpeg:https://mounthermondurham.org/wp-content/uploads/2022/12/foosball.jpg
END:VEVENT
BEGIN:VEVENT
DTSTART;TZID=America/New_York:20260329T110000
DTEND;TZID=America/New_York:20260329T110000
DTSTAMP:20260420T055012
CREATED:20230320T135610Z
LAST-MODIFIED:20260303T003626Z
UID:2206-1774782000-1774782000@mounthermondurham.org
SUMMARY:Palm Sunday
DESCRIPTION:Please join us to celebrate Palm Sunday worship service.
URL:https://mounthermondurham.org/event/palm-sunday/
CATEGORIES:News & Events
ATTACH;FMTTYPE=image/jpeg:https://mounthermondurham.org/wp-content/uploads/2023/03/Palm-Sunday.jpg
END:VEVENT
END:VCALENDAR