BEGIN:VCALENDAR
VERSION:2.0
PRODID:-//Mount Hermon Baptist Church - ECPv6.15.20//NONSGML v1.0//EN
CALSCALE:GREGORIAN
METHOD:PUBLISH
X-ORIGINAL-URL:https://mounthermondurham.org
X-WR-CALDESC:Events for Mount Hermon Baptist Church
REFRESH-INTERVAL;VALUE=DURATION:PT1H
X-Robots-Tag:noindex
X-PUBLISHED-TTL:PT1H
BEGIN:VTIMEZONE
TZID:America/New_York
BEGIN:DAYLIGHT
TZOFFSETFROM:-0500
TZOFFSETTO:-0400
TZNAME:EDT
DTSTART:20240310T070000
END:DAYLIGHT
BEGIN:STANDARD
TZOFFSETFROM:-0400
TZOFFSETTO:-0500
TZNAME:EST
DTSTART:20241103T060000
END:STANDARD
BEGIN:DAYLIGHT
TZOFFSETFROM:-0500
TZOFFSETTO:-0400
TZNAME:EDT
DTSTART:20250309T070000
END:DAYLIGHT
BEGIN:STANDARD
TZOFFSETFROM:-0400
TZOFFSETTO:-0500
TZNAME:EST
DTSTART:20251102T060000
END:STANDARD
BEGIN:DAYLIGHT
TZOFFSETFROM:-0500
TZOFFSETTO:-0400
TZNAME:EDT
DTSTART:20260308T070000
END:DAYLIGHT
BEGIN:STANDARD
TZOFFSETFROM:-0400
TZOFFSETTO:-0500
TZNAME:EST
DTSTART:20261101T060000
END:STANDARD
END:VTIMEZONE
BEGIN:VEVENT
DTSTART;TZID=America/New_York:20251115T090000
DTEND;TZID=America/New_York:20251115T090000
DTSTAMP:20260423T061127
CREATED:20231024T162918Z
LAST-MODIFIED:20250924T132401Z
UID:2289-1763197200-1763197200@mounthermondurham.org
SUMMARY:Operation Christmas Child Shoebox Packing
DESCRIPTION:Join the fun and fellowship as we pack the shoeboxes for those in need.  Bring items to pack and consider giving toward the shipping cost.  It costs $10 per box to ship.  Let’s make the children happy this Christmas.
URL:https://mounthermondurham.org/event/operation-christmas-child-shoebox-packing-2/
CATEGORIES:News & Events
ATTACH;FMTTYPE=image/jpeg:https://mounthermondurham.org/wp-content/uploads/2023/10/Christmas-shoeboxes.jpg
END:VEVENT
END:VCALENDAR