BEGIN:VCALENDAR
VERSION:2.0
PRODID:-//Mount Hermon Baptist Church - ECPv6.15.20//NONSGML v1.0//EN
CALSCALE:GREGORIAN
METHOD:PUBLISH
X-ORIGINAL-URL:https://mounthermondurham.org
X-WR-CALDESC:Events for Mount Hermon Baptist Church
REFRESH-INTERVAL;VALUE=DURATION:PT1H
X-Robots-Tag:noindex
X-PUBLISHED-TTL:PT1H
BEGIN:VTIMEZONE
TZID:America/New_York
BEGIN:DAYLIGHT
TZOFFSETFROM:-0500
TZOFFSETTO:-0400
TZNAME:EDT
DTSTART:20240310T070000
END:DAYLIGHT
BEGIN:STANDARD
TZOFFSETFROM:-0400
TZOFFSETTO:-0500
TZNAME:EST
DTSTART:20241103T060000
END:STANDARD
BEGIN:DAYLIGHT
TZOFFSETFROM:-0500
TZOFFSETTO:-0400
TZNAME:EDT
DTSTART:20250309T070000
END:DAYLIGHT
BEGIN:STANDARD
TZOFFSETFROM:-0400
TZOFFSETTO:-0500
TZNAME:EST
DTSTART:20251102T060000
END:STANDARD
BEGIN:DAYLIGHT
TZOFFSETFROM:-0500
TZOFFSETTO:-0400
TZNAME:EDT
DTSTART:20260308T070000
END:DAYLIGHT
BEGIN:STANDARD
TZOFFSETFROM:-0400
TZOFFSETTO:-0500
TZNAME:EST
DTSTART:20261101T060000
END:STANDARD
END:VTIMEZONE
BEGIN:VEVENT
DTSTART;TZID=America/New_York:20251221T110000
DTEND;TZID=America/New_York:20251221T120000
DTSTAMP:20260420T002955
CREATED:20251209T234126Z
LAST-MODIFIED:20251211T163820Z
UID:2520-1766314800-1766318400@mounthermondurham.org
SUMMARY:From Darkness to Dawn Choral Service
DESCRIPTION:As Christmas draws near\, you are invited to join us for a celebration of hope\, light\, and promise. This special service of Lessons & Carols will weave together scripture\, song\, and reflection in a reverent retelling of the Christmas story. \nThere’s no better time to extend to others the warmth of our fellowship. A simple invitation could be the light someone needs this season.
URL:https://mounthermondurham.org/event/from-darkness-to-dawn-choral-service/
CATEGORIES:News & Events
ATTACH;FMTTYPE=image/jpeg:https://mounthermondurham.org/wp-content/uploads/2025/12/From-Darkness-to-Dawn.jpg
END:VEVENT
END:VCALENDAR