BEGIN:VCALENDAR
VERSION:2.0
PRODID:-//Mount Hermon Baptist Church - ECPv6.15.20//NONSGML v1.0//EN
CALSCALE:GREGORIAN
METHOD:PUBLISH
X-ORIGINAL-URL:https://mounthermondurham.org
X-WR-CALDESC:Events for Mount Hermon Baptist Church
REFRESH-INTERVAL;VALUE=DURATION:PT1H
X-Robots-Tag:noindex
X-PUBLISHED-TTL:PT1H
BEGIN:VTIMEZONE
TZID:America/New_York
BEGIN:DAYLIGHT
TZOFFSETFROM:-0500
TZOFFSETTO:-0400
TZNAME:EDT
DTSTART:20250309T070000
END:DAYLIGHT
BEGIN:STANDARD
TZOFFSETFROM:-0400
TZOFFSETTO:-0500
TZNAME:EST
DTSTART:20251102T060000
END:STANDARD
BEGIN:DAYLIGHT
TZOFFSETFROM:-0500
TZOFFSETTO:-0400
TZNAME:EDT
DTSTART:20260308T070000
END:DAYLIGHT
BEGIN:STANDARD
TZOFFSETFROM:-0400
TZOFFSETTO:-0500
TZNAME:EST
DTSTART:20261101T060000
END:STANDARD
BEGIN:DAYLIGHT
TZOFFSETFROM:-0500
TZOFFSETTO:-0400
TZNAME:EDT
DTSTART:20270314T070000
END:DAYLIGHT
BEGIN:STANDARD
TZOFFSETFROM:-0400
TZOFFSETTO:-0500
TZNAME:EST
DTSTART:20271107T060000
END:STANDARD
END:VTIMEZONE
BEGIN:VEVENT
DTSTART;TZID=America/New_York:20260402T190000
DTEND;TZID=America/New_York:20260402T200000
DTSTAMP:20260424T123732
CREATED:20230320T140158Z
LAST-MODIFIED:20260303T003817Z
UID:2208-1775156400-1775160000@mounthermondurham.org
SUMMARY:Maundy Thursday
DESCRIPTION:Please join us for this special service with the Lord’s Supper.
URL:https://mounthermondurham.org/event/maundy-thursday/
CATEGORIES:News & Events
ATTACH;FMTTYPE=image/jpeg:https://mounthermondurham.org/wp-content/uploads/2023/03/Maundy-Thursday.jpg
END:VEVENT
BEGIN:VEVENT
DTSTART;TZID=America/New_York:20260403T190000
DTEND;TZID=America/New_York:20260403T200000
DTSTAMP:20260424T123732
CREATED:20230320T140644Z
LAST-MODIFIED:20260303T003913Z
UID:2210-1775242800-1775246400@mounthermondurham.org
SUMMARY:Good Friday
DESCRIPTION:Please join us for prayer and Songs at the Cross.
URL:https://mounthermondurham.org/event/good-friday/
CATEGORIES:News & Events
ATTACH;FMTTYPE=image/jpeg:https://mounthermondurham.org/wp-content/uploads/2023/03/Good-Friday.jpg
END:VEVENT
BEGIN:VEVENT
DTSTART;TZID=America/New_York:20260404T103000
DTEND;TZID=America/New_York:20260404T123000
DTSTAMP:20260424T123732
CREATED:20230303T194656Z
LAST-MODIFIED:20260329T002026Z
UID:2191-1775298600-1775305800@mounthermondurham.org
SUMMARY:Easter Egg Hunt
DESCRIPTION:Our Easter Egg Hunt is a time for everyone from the community to fellowship and have fun gathering eggs. The event starts at 10:30 am and will begin with a short devotional about Jesus’ resurrection. There will be games\, crafts\, egg hunt and lunch is provided.  Have fun gathering eggs and preparing for Easter Sunday!  The Egg hunt is for ages 3 years old through 5th grade.
URL:https://mounthermondurham.org/event/easter-egg-hunt/
CATEGORIES:News & Events
ATTACH;FMTTYPE=image/jpeg:https://mounthermondurham.org/wp-content/uploads/2023/03/EasterEgg.jpg
END:VEVENT
BEGIN:VEVENT
DTSTART;TZID=America/New_York:20260405T073000
DTEND;TZID=America/New_York:20260405T110000
DTSTAMP:20260424T123732
CREATED:20230320T141234Z
LAST-MODIFIED:20260303T004219Z
UID:2212-1775374200-1775386800@mounthermondurham.org
SUMMARY:Easter Sunday
DESCRIPTION:He is Risen!  Join us with three events happening Sunday morning. \n7:30 am  Sunrise Service \nPotluck Breakfast in the Fellowship Hall following the Sunrise Service \n10:00 am Easter Sunday Service
URL:https://mounthermondurham.org/event/easter-sunday/
CATEGORIES:News & Events
ATTACH;FMTTYPE=image/jpeg:https://mounthermondurham.org/wp-content/uploads/2023/03/Easter-Sunday.jpg
END:VEVENT
BEGIN:VEVENT
DTSTART;TZID=America/New_York:20260419T120000
DTEND;TZID=America/New_York:20260419T130000
DTSTAMP:20260424T123732
CREATED:20250924T134352Z
LAST-MODIFIED:20260414T175836Z
UID:2496-1776600000-1776603600@mounthermondurham.org
SUMMARY:Business Meeting
DESCRIPTION:We will have our monthly business meeting immediately after worship.
URL:https://mounthermondurham.org/event/business-meeting-2/
CATEGORIES:News & Events
END:VEVENT
BEGIN:VEVENT
DTSTART;TZID=America/New_York:20260424T080000
DTEND;TZID=America/New_York:20260425T170000
DTSTAMP:20260424T123732
CREATED:20250402T174552Z
LAST-MODIFIED:20260414T180009Z
UID:2442-1777017600-1777136400@mounthermondurham.org
SUMMARY:D-Now Youth Event
DESCRIPTION:
URL:https://mounthermondurham.org/event/d-now-youth-event/
CATEGORIES:News & Events
END:VEVENT
BEGIN:VEVENT
DTSTART;TZID=America/New_York:20260502T090000
DTEND;TZID=America/New_York:20260502T120000
DTSTAMP:20260424T123732
CREATED:20230525T011432Z
LAST-MODIFIED:20260414T180115Z
UID:2236-1777712400-1777723200@mounthermondurham.org
SUMMARY:Ladies Fellowship
DESCRIPTION:The ladies will meet in the event room.
URL:https://mounthermondurham.org/event/ladies-fellowship-2/
CATEGORIES:News & Events
END:VEVENT
BEGIN:VEVENT
DTSTART;TZID=America/New_York:20260502T090000
DTEND;TZID=America/New_York:20260502T120000
DTSTAMP:20260424T123732
CREATED:20230724T191221Z
LAST-MODIFIED:20260414T180150Z
UID:2266-1777712400-1777723200@mounthermondurham.org
SUMMARY:Baptist Men Meeting
DESCRIPTION:The men will meet in the fellowship hall.
URL:https://mounthermondurham.org/event/baptist-men-meeting/
CATEGORIES:News & Events
END:VEVENT
BEGIN:VEVENT
DTSTART;TZID=America/New_York:20260503T133000
DTEND;TZID=America/New_York:20260503T163000
DTSTAMP:20260424T123732
CREATED:20250924T135825Z
LAST-MODIFIED:20260414T180242Z
UID:2500-1777815000-1777825800@mounthermondurham.org
SUMMARY:Deacon's Meeting
DESCRIPTION:The deacons will meet in the afternoon.
URL:https://mounthermondurham.org/event/deacons-meeting-2/
CATEGORIES:News & Events
END:VEVENT
BEGIN:VEVENT
DTSTART;TZID=America/New_York:20260506T170000
DTEND;TZID=America/New_York:20260506T180000
DTSTAMP:20260424T123732
CREATED:20260414T180503Z
LAST-MODIFIED:20260414T180503Z
UID:2551-1778086800-1778090400@mounthermondurham.org
SUMMARY:Spaghetti Fundraiser (Youth)
DESCRIPTION:Join us for a spaghetti meal before Bible Study.  This is a fundraiser for the youth.
URL:https://mounthermondurham.org/event/spaghetti-fundraiser-youth/
CATEGORIES:News & Events
ATTACH;FMTTYPE=image/jpeg:https://mounthermondurham.org/wp-content/uploads/2023/04/spaghetti.jpg
END:VEVENT
END:VCALENDAR