BEGIN:VCALENDAR
VERSION:2.0
PRODID:-//Mount Hermon Baptist Church - ECPv6.15.20//NONSGML v1.0//EN
CALSCALE:GREGORIAN
METHOD:PUBLISH
X-WR-CALNAME:Mount Hermon Baptist Church
X-ORIGINAL-URL:https://mounthermondurham.org
X-WR-CALDESC:Events for Mount Hermon Baptist Church
REFRESH-INTERVAL;VALUE=DURATION:PT1H
X-Robots-Tag:noindex
X-PUBLISHED-TTL:PT1H
BEGIN:VTIMEZONE
TZID:America/New_York
BEGIN:DAYLIGHT
TZOFFSETFROM:-0500
TZOFFSETTO:-0400
TZNAME:EDT
DTSTART:20240310T070000
END:DAYLIGHT
BEGIN:STANDARD
TZOFFSETFROM:-0400
TZOFFSETTO:-0500
TZNAME:EST
DTSTART:20241103T060000
END:STANDARD
BEGIN:DAYLIGHT
TZOFFSETFROM:-0500
TZOFFSETTO:-0400
TZNAME:EDT
DTSTART:20250309T070000
END:DAYLIGHT
BEGIN:STANDARD
TZOFFSETFROM:-0400
TZOFFSETTO:-0500
TZNAME:EST
DTSTART:20251102T060000
END:STANDARD
BEGIN:DAYLIGHT
TZOFFSETFROM:-0500
TZOFFSETTO:-0400
TZNAME:EDT
DTSTART:20260308T070000
END:DAYLIGHT
BEGIN:STANDARD
TZOFFSETFROM:-0400
TZOFFSETTO:-0500
TZNAME:EST
DTSTART:20261101T060000
END:STANDARD
END:VTIMEZONE
BEGIN:VEVENT
DTSTART;TZID=America/New_York:20251109T133000
DTEND;TZID=America/New_York:20251109T163000
DTSTAMP:20260420T105701
CREATED:20250924T134509Z
LAST-MODIFIED:20250924T134509Z
UID:2497-1762695000-1762705800@mounthermondurham.org
SUMMARY:Deacon's Meeting
DESCRIPTION:Please note the change in meeting date.
URL:https://mounthermondurham.org/event/deacons-meeting/
CATEGORIES:News & Events
END:VEVENT
BEGIN:VEVENT
DTSTART;VALUE=DATE:20251113
DTEND;VALUE=DATE:20251114
DTSTAMP:20260420T105701
CREATED:20240924T125017Z
LAST-MODIFIED:20250924T131843Z
UID:2393-1762992000-1763078399@mounthermondurham.org
SUMMARY:SHIIP Appointments
DESCRIPTION:Senior Health Insurance Information Program for 2026 \nPlease call the church office for an appointment to speak to the representative.
URL:https://mounthermondurham.org/event/shiip-presentation/
CATEGORIES:News & Events
END:VEVENT
BEGIN:VEVENT
DTSTART;TZID=America/New_York:20251130T110000
DTEND;TZID=America/New_York:20251130T120000
DTSTAMP:20260420T105701
CREATED:20250924T135147Z
LAST-MODIFIED:20250924T135147Z
UID:2498-1764500400-1764504000@mounthermondurham.org
SUMMARY:Favorite Hymn Sunday
DESCRIPTION:We will sing our favorite hymns.  Be sure to let the music minister know what your favorite hymn is and why you selected it.
URL:https://mounthermondurham.org/event/favorite-hymn-sunday/
CATEGORIES:News & Events
ATTACH;FMTTYPE=image/jpeg:https://mounthermondurham.org/wp-content/uploads/2019/09/worship-music2.jpg
END:VEVENT
END:VCALENDAR