BEGIN:VCALENDAR
VERSION:2.0
PRODID:-//Mount Hermon Baptist Church - ECPv6.15.20//NONSGML v1.0//EN
CALSCALE:GREGORIAN
METHOD:PUBLISH
X-ORIGINAL-URL:https://mounthermondurham.org
X-WR-CALDESC:Events for Mount Hermon Baptist Church
REFRESH-INTERVAL;VALUE=DURATION:PT1H
X-Robots-Tag:noindex
X-PUBLISHED-TTL:PT1H
BEGIN:VTIMEZONE
TZID:America/New_York
BEGIN:DAYLIGHT
TZOFFSETFROM:-0500
TZOFFSETTO:-0400
TZNAME:EDT
DTSTART:20250309T070000
END:DAYLIGHT
BEGIN:STANDARD
TZOFFSETFROM:-0400
TZOFFSETTO:-0500
TZNAME:EST
DTSTART:20251102T060000
END:STANDARD
BEGIN:DAYLIGHT
TZOFFSETFROM:-0500
TZOFFSETTO:-0400
TZNAME:EDT
DTSTART:20260308T070000
END:DAYLIGHT
BEGIN:STANDARD
TZOFFSETFROM:-0400
TZOFFSETTO:-0500
TZNAME:EST
DTSTART:20261101T060000
END:STANDARD
BEGIN:DAYLIGHT
TZOFFSETFROM:-0500
TZOFFSETTO:-0400
TZNAME:EDT
DTSTART:20270314T070000
END:DAYLIGHT
BEGIN:STANDARD
TZOFFSETFROM:-0400
TZOFFSETTO:-0500
TZNAME:EST
DTSTART:20271107T060000
END:STANDARD
END:VTIMEZONE
BEGIN:VEVENT
DTSTART;VALUE=DATE:20260201
DTEND;VALUE=DATE:20260301
DTSTAMP:20260420T094424
CREATED:20240709T115105Z
LAST-MODIFIED:20260204T223259Z
UID:2369-1769904000-1772323199@mounthermondurham.org
SUMMARY:OCIM and OCC Items of the Month
DESCRIPTION:OCIM Items \nFruit and Applesauce \nOCC Items \nToothpaste \nPlease place these items in the box as you enter the church.  The people in Orange County that are in need thank you so much for your generous donations.
URL:https://mounthermondurham.org/event/ocim-and-occ-items-of-the-month/
CATEGORIES:News & Events
END:VEVENT
BEGIN:VEVENT
DTSTART;VALUE=DATE:20260208
DTEND;VALUE=DATE:20260209
DTSTAMP:20260420T094424
CREATED:20231130T135945Z
LAST-MODIFIED:20260204T223444Z
UID:2301-1770508800-1770595199@mounthermondurham.org
SUMMARY:Souper Bowl of Caring
DESCRIPTION:Canned goods and monetary donations will be collected to help OCIM meet the needs in our community
URL:https://mounthermondurham.org/event/soup-night-fundraiser-for-youth/
CATEGORIES:News & Events
ATTACH;FMTTYPE=image/jpeg:https://mounthermondurham.org/wp-content/uploads/2023/11/soup.jpg
END:VEVENT
BEGIN:VEVENT
DTSTART;TZID=America/New_York:20260214T090000
DTEND;TZID=America/New_York:20260214T113000
DTSTAMP:20260420T094424
CREATED:20250924T130649Z
LAST-MODIFIED:20260204T222004Z
UID:2488-1771059600-1771068600@mounthermondurham.org
SUMMARY:Baptist Men Meeting
DESCRIPTION:The men of the church will meet Saturday February 14 in the fellowship hall.
URL:https://mounthermondurham.org/event/baptist-men-meeting-2/
CATEGORIES:News & Events
END:VEVENT
BEGIN:VEVENT
DTSTART;TZID=America/New_York:20260214T090000
DTEND;TZID=America/New_York:20260214T120000
DTSTAMP:20260420T094424
CREATED:20260204T222530Z
LAST-MODIFIED:20260204T222530Z
UID:2533-1771059600-1771070400@mounthermondurham.org
SUMMARY:Ladies' Fellowship
DESCRIPTION:The ladies will meet in the event room Feb 14th.  Next month\, the Ladies Fellowship will express appreciation to staff at two local schools.  Supplies are being purchased in advance\, and your support to help cover these costs is appreciated.  To donate\, you may give directly to Kathryn\, Janice\, or simply mark “Ladies Fellowship” on your offering envelope.  See you on Feb 14th.
URL:https://mounthermondurham.org/event/ladies-fellowship/
CATEGORIES:News & Events
END:VEVENT
BEGIN:VEVENT
DTSTART;TZID=America/New_York:20260217T180000
DTEND;TZID=America/New_York:20260217T190000
DTSTAMP:20260420T094424
CREATED:20230124T143236Z
LAST-MODIFIED:20260204T222741Z
UID:2175-1771351200-1771354800@mounthermondurham.org
SUMMARY:Shrove Tuesday Pancake Dinner
DESCRIPTION: Shrove Tuesday is the day before Lent begins. It has been a Christian tradition to feast on pancakes on Shrove Tuesday before the Lenten season begins the next day. Come join us at 6 pm and let the youth cook you some delicious pancakes.  (Donations are optional for food costs. Anything left over will go to Youth Missions.)
URL:https://mounthermondurham.org/event/strove-tuesday-pancake-dinner/
CATEGORIES:News & Events
ATTACH;FMTTYPE=image/jpeg:https://mounthermondurham.org/wp-content/uploads/2023/01/strovetuesday.jpg
END:VEVENT
BEGIN:VEVENT
DTSTART;TZID=America/New_York:20260218T180000
DTEND;TZID=America/New_York:20260218T190000
DTSTAMP:20260420T094424
CREATED:20230124T144156Z
LAST-MODIFIED:20260204T223013Z
UID:2176-1771437600-1771441200@mounthermondurham.org
SUMMARY:Ash Wednesday Service
DESCRIPTION:Ash Wednesday is the first day of lent–the season in which we remember our sins and our need for a Savior. The season of Lent is the season right before Easter. Our Ash Wednesday service celebrates the first day of lent. In this service\, we grapple with our mortality and our need to be saved. Join us for this special service. it begins at 6 pm on Wednesday\, February 18th\, and will take the place of our traditional Wednesday Prayer and Bible Study.
URL:https://mounthermondurham.org/event/ash-wednesday-service/
CATEGORIES:News & Events
ATTACH;FMTTYPE=image/png:https://mounthermondurham.org/wp-content/uploads/2023/01/Ash-Wednesday-Service.png
END:VEVENT
END:VCALENDAR